BEGIN:VCALENDAR

VERSION:1.0
METHOD:PUBLISH
PRODID:-//Realestate.co.nz Ltd//Realestate.co.nz//EN

BEGIN:VEVENT
CLASS:PUBLIC
UID:http://www.nzfarms.co.nz/3239389#openhome-13364040
SUMMARY:Open home for Timeless Character Homestead 23.0424Ha (2 titles)
DESCRIPTION:
DTSTART:20180128T100000
DTEND:20180128T120000
DTSTAMP:20180124T183500
LOCATION:338A Leedstown Road\, Marton\, Rangitikei\, Manawatu / Wanganui 4787
CONTACT:Jacqui Campion
END:VEVENT

END:VCALENDAR